BEGIN:VCALENDAR
VERSION:2.0
PRODID:-//Community Transport Port Stephens - ECPv4.6.20.1//NONSGML v1.0//EN
CALSCALE:GREGORIAN
METHOD:PUBLISH
X-WR-CALNAME:Community Transport Port Stephens
X-ORIGINAL-URL:http://ctps.org.au
X-WR-CALDESC:Events for Community Transport Port Stephens
BEGIN:VEVENT
DTSTART;VALUE=DATE:20190412
DTEND;VALUE=DATE:20190413
DTSTAMP:20190301T085448
CREATED:20190301T002545Z
LAST-MODIFIED:20190301T002545Z
UID:1041-1555027200-1555113599@ctps.org.au
SUMMARY:Friday 12th April Marthaville Art & Craft Centre
DESCRIPTION:Browse the extensive range of locally handcrafted arts and crafts on display and available for sale. Have a look around and lunch on site at  Marthaville (please advise of any dietary requirements). \nArrival approx. 11.00am Depart approx. 1.30pm \nLunch—$10.00 \nTransport CHSP/CTP $12 & NDIS/HCP $24  \n  \n
URL:http://ctps.org.au/event/friday-12th-april-marthaville-art-craft-centre/
END:VEVENT
END:VCALENDAR