BEGIN:VCALENDAR
VERSION:2.0
PRODID:-//Community Transport Port Stephens - ECPv4.6.20.1//NONSGML v1.0//EN
CALSCALE:GREGORIAN
METHOD:PUBLISH
X-WR-CALNAME:Community Transport Port Stephens
X-ORIGINAL-URL:http://ctps.org.au
X-WR-CALDESC:Events for Community Transport Port Stephens
BEGIN:VEVENT
DTSTART;VALUE=DATE:20190503
DTEND;VALUE=DATE:20190504
DTSTAMP:20190301T085611
CREATED:20190301T004946Z
LAST-MODIFIED:20190301T004946Z
UID:1047-1556841600-1556927999@ctps.org.au
SUMMARY:Friday 3rd May Oakvale Wildlife Park
DESCRIPTION:Visit the huge range of animals at Oakvale Wildlife Park. Explore at your leisure the beautiful surrounds and informative wildlife presentations. Enjoy lunch at the onsite café or pack your own! \nAdmission–Senior $24.50pp/Adult $28.50 \nArrival approx. 10.30am \nDepart approx. 1.30pm \nTransport CHSP/CTP $12 NDIS/HCP $24  \n  \n
URL:http://ctps.org.au/event/friday-3rd-may-oakvale-wildlife-park/
END:VEVENT
END:VCALENDAR