BEGIN:VCALENDAR
VERSION:2.0
PRODID:-//Community Transport Port Stephens - ECPv4.6.20.1//NONSGML v1.0//EN
CALSCALE:GREGORIAN
METHOD:PUBLISH
X-WR-CALNAME:Community Transport Port Stephens
X-ORIGINAL-URL:http://ctps.org.au
X-WR-CALDESC:Events for Community Transport Port Stephens
BEGIN:VEVENT
DTSTART;VALUE=DATE:20190418
DTEND;VALUE=DATE:20190419
DTSTAMP:20190301T085515
CREATED:20190301T004233Z
LAST-MODIFIED:20190301T004233Z
UID:1043-1555545600-1555631999@ctps.org.au
SUMMARY:Thursday 18th April Op Shop Hop
DESCRIPTION:Pick up a bargain or discover a treasure on a fun filled day visiting Antique & Op Shops in Newcastle before lunch at Wests Mayfield \nArrival approx. 10.30am Depart approx. 1.30pm \nTransport CHSP/CTP $12 & NDIS/HCP $24  \nLunch—Own cost                 \n  \n
URL:http://ctps.org.au/event/thursday-18th-april-op-shop-hop/
END:VEVENT
END:VCALENDAR