BEGIN:VCALENDAR
VERSION:2.0
PRODID:-//Community Transport Port Stephens - ECPv4.6.20.1//NONSGML v1.0//EN
CALSCALE:GREGORIAN
METHOD:PUBLISH
X-WR-CALNAME:Community Transport Port Stephens
X-ORIGINAL-URL:http://ctps.org.au
X-WR-CALDESC:Events for Community Transport Port Stephens
BEGIN:VEVENT
DTSTART;VALUE=DATE:20190321
DTEND;VALUE=DATE:20190322
DTSTAMP:20190301T085314
CREATED:20190301T002325Z
LAST-MODIFIED:20190301T002325Z
UID:1035-1553126400-1553212799@ctps.org.au
SUMMARY:Thursday 21st March Alison Homestead
DESCRIPTION:Take a trip back in time and explore the historic Alison Homestead Museum in Wyong. A Tour and morning tea has been arranged. Following the museum we will get back on the road before stopping for lunch at Hexham Bowling Club. \nMorning Tea & Tour $10 \nTransport CHSP/CTP $12 & NDIS/HCP $24  \nLunch—Own cost                 \n  \n
URL:http://ctps.org.au/event/thursday-21st-march-alison-homestead/
END:VEVENT
END:VCALENDAR