BEGIN:VCALENDAR
VERSION:2.0
PRODID:-//Community Transport Port Stephens - ECPv4.6.20.1//NONSGML v1.0//EN
CALSCALE:GREGORIAN
METHOD:PUBLISH
X-WR-CALNAME:Community Transport Port Stephens
X-ORIGINAL-URL:http://ctps.org.au
X-WR-CALDESC:Events for Community Transport Port Stephens
BEGIN:VEVENT
DTSTART;VALUE=DATE:20181108
DTEND;VALUE=DATE:20181109
DTSTAMP:20190301T085029
CREATED:20180806T034245Z
LAST-MODIFIED:20180806T034245Z
UID:967-1541635200-1541721599@ctps.org.au
SUMMARY:Thursday 8th November—Kurri Kurri Steptoes & Kurri Kurri Gift gallery
DESCRIPTION:Peruse the Largest antique and second-hand furniture warehouse in the Hunter  in historic  Kurri Kurri.  Have a look around the visitor centre gift shop and enjoy lunch at the Kurri Kurri Hotel. \nApprox. arrival—10.30am Approx. depart 1.30pm \nTransport CHSP/CTP $12 & NDIS/HCP $24  \nLunch—Own cost                 \n  \n
URL:http://ctps.org.au/event/thursday-8th-november-kurri-kurri-steptoes-kurri-kurri-gift-gallery/
END:VEVENT
END:VCALENDAR